BEGIN:VCALENDAR
VERSION:2.0
PRODID:-//Jõhvi Vald - ECPv6.15.20//NONSGML v1.0//EN
CALSCALE:GREGORIAN
METHOD:PUBLISH
X-ORIGINAL-URL:https://www.johvi.ee
X-WR-CALDESC:Events for Jõhvi Vald
REFRESH-INTERVAL;VALUE=DURATION:PT1H
X-Robots-Tag:noindex
X-PUBLISHED-TTL:PT1H
BEGIN:VTIMEZONE
TZID:Europe/Tallinn
BEGIN:DAYLIGHT
TZOFFSETFROM:+0200
TZOFFSETTO:+0300
TZNAME:EEST
DTSTART:20250330T010000
END:DAYLIGHT
BEGIN:STANDARD
TZOFFSETFROM:+0300
TZOFFSETTO:+0200
TZNAME:EET
DTSTART:20251026T010000
END:STANDARD
BEGIN:DAYLIGHT
TZOFFSETFROM:+0200
TZOFFSETTO:+0300
TZNAME:EEST
DTSTART:20260329T010000
END:DAYLIGHT
BEGIN:STANDARD
TZOFFSETFROM:+0300
TZOFFSETTO:+0200
TZNAME:EET
DTSTART:20261025T010000
END:STANDARD
BEGIN:DAYLIGHT
TZOFFSETFROM:+0200
TZOFFSETTO:+0300
TZNAME:EEST
DTSTART:20270328T010000
END:DAYLIGHT
BEGIN:STANDARD
TZOFFSETFROM:+0300
TZOFFSETTO:+0200
TZNAME:EET
DTSTART:20271031T010000
END:STANDARD
END:VTIMEZONE
BEGIN:VEVENT
DTSTART;TZID=Europe/Tallinn:20260503T180000
DTEND;TZID=Europe/Tallinn:20260503T190000
DTSTAMP:20260423T005157
CREATED:20260402T062143Z
LAST-MODIFIED:20260402T062143Z
UID:11480-1777831200-1777834800@www.johvi.ee
SUMMARY:Beati Mandolini kevadkontsert
DESCRIPTION:
URL:https://www.johvi.ee/sundmus/beati-mandolini-kevadkontsert/
LOCATION:Jõhvi Mihkli kirik\, Rakvere tn 6\, Jõhvi\, Estonia
ATTACH;FMTTYPE=image/png:https://www.johvi.ee/wp-content/uploads/2026/04/Kevadkontsert-oige.png
END:VEVENT
BEGIN:VEVENT
DTSTART;TZID=Europe/Tallinn:20260524T060000
DTEND;TZID=Europe/Tallinn:20260525T055959
DTSTAMP:20260423T005157
CREATED:20260119T092546Z
LAST-MODIFIED:20260119T092546Z
UID:8364-1779602400-1779688799@www.johvi.ee
SUMMARY:Piknikulava 2026 programm
DESCRIPTION:
URL:https://www.johvi.ee/sundmus/piknikulava-2026-programm/
LOCATION:Posti talu\, Posti\, Saka\, Ida-Virumaa\, 30103\, Estonia
ATTACH;FMTTYPE=image/jpeg:https://www.johvi.ee/wp-content/uploads/2026/01/aprill24.jpg
END:VEVENT
END:VCALENDAR