BEGIN:VCALENDAR
VERSION:2.0
PRODID:-//Jõhvi Vald - ECPv6.15.20//NONSGML v1.0//EN
CALSCALE:GREGORIAN
METHOD:PUBLISH
X-ORIGINAL-URL:https://www.johvi.ee
X-WR-CALDESC:Events for Jõhvi Vald
REFRESH-INTERVAL;VALUE=DURATION:PT1H
X-Robots-Tag:noindex
X-PUBLISHED-TTL:PT1H
BEGIN:VTIMEZONE
TZID:Europe/Tallinn
BEGIN:DAYLIGHT
TZOFFSETFROM:+0200
TZOFFSETTO:+0300
TZNAME:EEST
DTSTART:20250330T010000
END:DAYLIGHT
BEGIN:STANDARD
TZOFFSETFROM:+0300
TZOFFSETTO:+0200
TZNAME:EET
DTSTART:20251026T010000
END:STANDARD
BEGIN:DAYLIGHT
TZOFFSETFROM:+0200
TZOFFSETTO:+0300
TZNAME:EEST
DTSTART:20260329T010000
END:DAYLIGHT
BEGIN:STANDARD
TZOFFSETFROM:+0300
TZOFFSETTO:+0200
TZNAME:EET
DTSTART:20261025T010000
END:STANDARD
BEGIN:DAYLIGHT
TZOFFSETFROM:+0200
TZOFFSETTO:+0300
TZNAME:EEST
DTSTART:20270328T010000
END:DAYLIGHT
BEGIN:STANDARD
TZOFFSETFROM:+0300
TZOFFSETTO:+0200
TZNAME:EET
DTSTART:20271031T010000
END:STANDARD
END:VTIMEZONE
BEGIN:VEVENT
DTSTART;TZID=Europe/Tallinn:20260418T130000
DTEND;TZID=Europe/Tallinn:20260418T160000
DTSTAMP:20260422T234027
CREATED:20260413T102552Z
LAST-MODIFIED:20260413T102552Z
UID:11659-1776517200-1776528000@www.johvi.ee
SUMMARY:Ida-Virumaa vokaalansamblite ja solistide päev
DESCRIPTION:18. aprillil kell 13:00 Ida-Virumaa vokaalansamblite ja solistide päev Tammiku rahvamajas!\nLavale astuvad Ida-Virumaa vokaalansamblid ja solistid ning päeva erikülalisena esineb armastatud laulja Anne Velli.\nSissepääs on TASUTA!\nLisainfo: 58587381 (Heli)
URL:https://www.johvi.ee/sundmus/ida-virumaa-vokaalansamblite-ja-solistide-paev-2/
LOCATION:Tammiku Rahvamaja\, Tamme 17\, Tammiku alevik\, Estonia
ATTACH;FMTTYPE=image/jpeg:https://www.johvi.ee/wp-content/uploads/2026/04/671056938_1256376626706428_5758911841269431713_n.jpg
END:VEVENT
BEGIN:VEVENT
DTSTART;TZID=Europe/Tallinn:20260421T173000
DTEND;TZID=Europe/Tallinn:20260421T183000
DTSTAMP:20260422T234027
CREATED:20260402T115909Z
LAST-MODIFIED:20260402T115909Z
UID:11517-1776792600-1776796200@www.johvi.ee
SUMMARY:Raamatuesitlus/Презентация книги
DESCRIPTION:Üritusel esitletakse Jevgenia Parve venekeelset raamatut “Любовь не выживет в неволе” ja see toimub vene keeles. \nКнига Евгении Парв “Любовь не выживет в неволе” и мероприятие на русском языке.
URL:https://www.johvi.ee/sundmus/raamatuesitlus-%d0%bf%d1%80%d0%b5%d0%b7%d0%b5%d0%bd%d1%82%d0%b0%d1%86%d0%b8%d1%8f-%d0%ba%d0%bd%d0%b8%d0%b3%d0%b8/
LOCATION:Jõhvi keskraamatukogu\, Rakvere 13a \, Ida-Virumaa\, Jõhvi\, Ida-Virumaa\, Estonia
ATTACH;FMTTYPE=image/png:https://www.johvi.ee/wp-content/uploads/2026/04/jevgenia_plakat_venekeelne.png
END:VEVENT
BEGIN:VEVENT
DTSTART;TZID=Europe/Tallinn:20260422T100000
DTEND;TZID=Europe/Tallinn:20260422T153000
DTSTAMP:20260422T234027
CREATED:20260409T065018Z
LAST-MODIFIED:20260409T065018Z
UID:11602-1776852000-1776871800@www.johvi.ee
SUMMARY:kindral Aleksander Tõnissoni ajalookonverents “Taasiseseisvumine. 35 aastat Jõhvi linnaõiguste taastamisest“
DESCRIPTION:Jõhvi Muuseumi Selts korraldab kolmapäeval\, 22. aprillil Jõhvi kontserdimaja kammersaalis IX kindral Aleksander Tõnissoni ajalookonverentsi “Taasiseseisvumine. 35 aastat Jõhvi linnaõiguste taastamisest“. \n  \nKonverentsi modereerib ajakirjanik Erik Gamzejev \nTäpsem info ürituse ajakavaga on leitav Jõhvi Muuseumi Seltsi kodulehelt: https://johvimuuseum.ee \nRegistreerumine konverentsile on avatud kuni 20. aprillini siin: \nhttps://forms.gle/Uw4oV5JbD16XmSmLA
URL:https://www.johvi.ee/sundmus/kindral-aleksander-tonissoni-ajalookonverents-taasiseseisvumine-35-aastat-johvi-linnaoiguste-taastamisest/
LOCATION:Jõhvi Kontserdimaja\, Pargi 40\, Jõhvi\, Ida-Virumaa\, Estonia
ATTACH;FMTTYPE=image/jpeg:https://www.johvi.ee/wp-content/uploads/2026/04/Tonisson-plakat-26-viimane.jpg
END:VEVENT
BEGIN:VEVENT
DTSTART;TZID=Europe/Tallinn:20260422T120000
DTEND;TZID=Europe/Tallinn:20260422T140000
DTSTAMP:20260422T234027
CREATED:20260326T075649Z
LAST-MODIFIED:20260326T120858Z
UID:11197-1776859200-1776866400@www.johvi.ee
SUMMARY:Abivahendeid tutvustav infopäev
DESCRIPTION:
URL:https://www.johvi.ee/sundmus/abivahendeid-tutvustav-infopaev/
LOCATION:Jõhvi Vallamaja\, Kooli 2\, Jõhvi
ATTACH;FMTTYPE=image/jpeg:https://www.johvi.ee/wp-content/uploads/2026/03/IMG_3164.jpeg
END:VEVENT
BEGIN:VEVENT
DTSTART;TZID=Europe/Tallinn:20260422T173000
DTEND;TZID=Europe/Tallinn:20260422T190000
DTSTAMP:20260422T234027
CREATED:20260325T100456Z
LAST-MODIFIED:20260325T100456Z
UID:11175-1776879000-1776884400@www.johvi.ee
SUMMARY:Reisiklubi jutud
DESCRIPTION:22. aprillil kell 17.30 jagab oma muljeid Uus-Meremaast Heli Vähk. Ootame kõiki reisihuvilisi!
URL:https://www.johvi.ee/sundmus/reisiklubi-jutud-3/
LOCATION:Jõhvi keskraamatukogu\, Rakvere 13a \, Ida-Virumaa\, Jõhvi\, Ida-Virumaa\, Estonia
ATTACH;FMTTYPE=image/png:https://www.johvi.ee/wp-content/uploads/2026/03/Uus-Meremaa.png
END:VEVENT
BEGIN:VEVENT
DTSTART;TZID=Europe/Tallinn:20260425T150000
DTEND;TZID=Europe/Tallinn:20260425T170000
DTSTAMP:20260422T234027
CREATED:20260323T090701Z
LAST-MODIFIED:20260323T090710Z
UID:11047-1777129200-1777136400@www.johvi.ee
SUMMARY:Kohtumine Seto leelokooriga SÕSARÕ
DESCRIPTION:25. aprillil kell 15.00 toimub Tammiku Rahvamajas Seto kultuuri tutvustav pärastlõuna. \nKavas on Seto pärandkultuuri tutvustus\, leelolaulud\, laulumängud ja tantsud. \nSissepääs on tasuta.
URL:https://www.johvi.ee/sundmus/kohtumine-seto-leelokooriga-sosaro/
LOCATION:Tammiku Rahvamaja\, Tamme 17\, Tammiku alevik\, Estonia
ATTACH;FMTTYPE=image/png:https://www.johvi.ee/wp-content/uploads/2026/03/Seto-Leelokoor-SOSARO-1.png
END:VEVENT
BEGIN:VEVENT
DTSTART;TZID=Europe/Tallinn:20260430T190000
DTEND;TZID=Europe/Tallinn:20260430T210000
DTSTAMP:20260422T234027
CREATED:20260309T100338Z
LAST-MODIFIED:20260309T100338Z
UID:10571-1777575600-1777582800@www.johvi.ee
SUMMARY:Muusikalitrupi etendus „Muusikal kutsub teid“
DESCRIPTION:30. aprillil kell 19.00 ootab teid Tammiku Rahvamajas Jõhvi valla muusikalitrupi etendus „Muusikal kutsub teid“.\n\n\nTulge ja nautige kaunist muusikat ja väikest vallatust.\n\n\nSissepääs on vabatahtliku annetusega.
URL:https://www.johvi.ee/sundmus/muusikalitrupi-etendus-muusikal-kutsub-teid/
LOCATION:Tammiku Rahvamaja\, Tamme 17\, Tammiku alevik\, Estonia
ATTACH;FMTTYPE=image/jpeg:https://www.johvi.ee/wp-content/uploads/2026/03/Tammiku-1.jpg
END:VEVENT
BEGIN:VEVENT
DTSTART;TZID=Europe/Tallinn:20260503T180000
DTEND;TZID=Europe/Tallinn:20260503T190000
DTSTAMP:20260422T234027
CREATED:20260402T062143Z
LAST-MODIFIED:20260402T062143Z
UID:11480-1777831200-1777834800@www.johvi.ee
SUMMARY:Beati Mandolini kevadkontsert
DESCRIPTION:
URL:https://www.johvi.ee/sundmus/beati-mandolini-kevadkontsert/
LOCATION:Jõhvi Mihkli kirik\, Rakvere tn 6\, Jõhvi\, Estonia
ATTACH;FMTTYPE=image/png:https://www.johvi.ee/wp-content/uploads/2026/04/Kevadkontsert-oige.png
END:VEVENT
BEGIN:VEVENT
DTSTART;TZID=Europe/Tallinn:20260524T060000
DTEND;TZID=Europe/Tallinn:20260525T055959
DTSTAMP:20260422T234027
CREATED:20260119T092546Z
LAST-MODIFIED:20260119T092546Z
UID:8364-1779602400-1779688799@www.johvi.ee
SUMMARY:Piknikulava 2026 programm
DESCRIPTION:
URL:https://www.johvi.ee/sundmus/piknikulava-2026-programm/
LOCATION:Posti talu\, Posti\, Saka\, Ida-Virumaa\, 30103\, Estonia
ATTACH;FMTTYPE=image/jpeg:https://www.johvi.ee/wp-content/uploads/2026/01/aprill24.jpg
END:VEVENT
END:VCALENDAR