BEGIN:VCALENDAR
VERSION:2.0
PRODID:-//Jõhvi Vald - ECPv6.15.20//NONSGML v1.0//EN
CALSCALE:GREGORIAN
METHOD:PUBLISH
X-WR-CALNAME:Jõhvi Vald
X-ORIGINAL-URL:https://www.johvi.ee
X-WR-CALDESC:Events for Jõhvi Vald
REFRESH-INTERVAL;VALUE=DURATION:PT1H
X-Robots-Tag:noindex
X-PUBLISHED-TTL:PT1H
BEGIN:VTIMEZONE
TZID:Europe/Tallinn
BEGIN:DAYLIGHT
TZOFFSETFROM:+0200
TZOFFSETTO:+0300
TZNAME:EEST
DTSTART:20250330T010000
END:DAYLIGHT
BEGIN:STANDARD
TZOFFSETFROM:+0300
TZOFFSETTO:+0200
TZNAME:EET
DTSTART:20251026T010000
END:STANDARD
BEGIN:DAYLIGHT
TZOFFSETFROM:+0200
TZOFFSETTO:+0300
TZNAME:EEST
DTSTART:20260329T010000
END:DAYLIGHT
BEGIN:STANDARD
TZOFFSETFROM:+0300
TZOFFSETTO:+0200
TZNAME:EET
DTSTART:20261025T010000
END:STANDARD
BEGIN:DAYLIGHT
TZOFFSETFROM:+0200
TZOFFSETTO:+0300
TZNAME:EEST
DTSTART:20270328T010000
END:DAYLIGHT
BEGIN:STANDARD
TZOFFSETFROM:+0300
TZOFFSETTO:+0200
TZNAME:EET
DTSTART:20271031T010000
END:STANDARD
END:VTIMEZONE
BEGIN:VEVENT
DTSTART;TZID=Europe/Tallinn:20260511T100000
DTEND;TZID=Europe/Tallinn:20260511T120000
DTSTAMP:20260424T113649
CREATED:20260424T055902Z
LAST-MODIFIED:20260424T055902Z
UID:11851-1778493600-1778500800@www.johvi.ee
SUMMARY:Ida-Virumaa Vaegkuuljate Ühing kutsub klubipäev
DESCRIPTION:Teema: Vaegkuulja enesetunne\, suhted ja toimetulek\n\n\n\n*tule räägi oma muredest ja soovidest\n* liikmemaksud\n* oodatud on endised liikmed ja uued\, kellel probleeme kuulmisega\n\n\nMüügil kuuldeaparaadi patareid\nInfo 5269 174
URL:https://www.johvi.ee/sundmus/ida-virumaa-vaegkuuljate-uhing-kutsub-klubipaev/
LOCATION:Eakate Päevakeskus\, Kaare 3\, Jõhvi\, Ida-Virumaa\, Estonia
ATTACH;FMTTYPE=image/png:https://www.johvi.ee/wp-content/uploads/2026/04/vaegkuuljate-uhing-1105.png
END:VEVENT
BEGIN:VEVENT
DTSTART;TZID=Europe/Tallinn:20260512T183000
DTEND;TZID=Europe/Tallinn:20260512T200000
DTSTAMP:20260424T113649
CREATED:20260424T070904Z
LAST-MODIFIED:20260424T070904Z
UID:11889-1778610600-1778616000@www.johvi.ee
SUMMARY:Emadepäeva kontsert Toila seltsimajas
DESCRIPTION:Toila seltsimajas\, 12. mail\, kell 18.30 \nAlates 17.30 avatud kohvik. \nEsinevad Voka laulukooli lapsed ja täiskasvanute koor\, Kohtla-Nõmme Kooli lapsed\, Ketriin Kõue\, Voka lasteaed Naksitrallid laululapsed\, Toila Gümnaasiumi laululapsed. \nKontserdi kestvuseks on veidi üle tunni. \nTule veeda üks mõnus õhtupoolik! \nSissepääs kontserdile prii!\nKohvikusse võta kaasa sularaha.
URL:https://www.johvi.ee/sundmus/emadepaeva-kontsert-toila-seltsimajas/
LOCATION:Toila Seltsimaja\, 13a\, Pikk\, Toila\, Ida-Virumaa\, 41301\, Estonia
ATTACH;FMTTYPE=image/jpeg:https://www.johvi.ee/wp-content/uploads/2026/04/670483274_1574779194652680_1173856647084759326_n.jpg
END:VEVENT
BEGIN:VEVENT
DTSTART;TZID=Europe/Tallinn:20260524T060000
DTEND;TZID=Europe/Tallinn:20260525T055959
DTSTAMP:20260424T113649
CREATED:20260119T092546Z
LAST-MODIFIED:20260119T092546Z
UID:8364-1779602400-1779688799@www.johvi.ee
SUMMARY:Piknikulava 2026 programm
DESCRIPTION:
URL:https://www.johvi.ee/sundmus/piknikulava-2026-programm/
LOCATION:Posti talu\, Posti\, Saka\, Ida-Virumaa\, 30103\, Estonia
ATTACH;FMTTYPE=image/jpeg:https://www.johvi.ee/wp-content/uploads/2026/01/aprill24.jpg
END:VEVENT
END:VCALENDAR