BEGIN:VCALENDAR
VERSION:2.0
PRODID:-//Jõhvi Vald - ECPv6.15.20//NONSGML v1.0//EN
CALSCALE:GREGORIAN
METHOD:PUBLISH
X-WR-CALNAME:Jõhvi Vald
X-ORIGINAL-URL:https://www.johvi.ee
X-WR-CALDESC:Events for Jõhvi Vald
REFRESH-INTERVAL;VALUE=DURATION:PT1H
X-Robots-Tag:noindex
X-PUBLISHED-TTL:PT1H
BEGIN:VTIMEZONE
TZID:Europe/Tallinn
BEGIN:DAYLIGHT
TZOFFSETFROM:+0200
TZOFFSETTO:+0300
TZNAME:EEST
DTSTART:20240331T010000
END:DAYLIGHT
BEGIN:STANDARD
TZOFFSETFROM:+0300
TZOFFSETTO:+0200
TZNAME:EET
DTSTART:20241027T010000
END:STANDARD
BEGIN:DAYLIGHT
TZOFFSETFROM:+0200
TZOFFSETTO:+0300
TZNAME:EEST
DTSTART:20250330T010000
END:DAYLIGHT
BEGIN:STANDARD
TZOFFSETFROM:+0300
TZOFFSETTO:+0200
TZNAME:EET
DTSTART:20251026T010000
END:STANDARD
BEGIN:DAYLIGHT
TZOFFSETFROM:+0200
TZOFFSETTO:+0300
TZNAME:EEST
DTSTART:20260329T010000
END:DAYLIGHT
BEGIN:STANDARD
TZOFFSETFROM:+0300
TZOFFSETTO:+0200
TZNAME:EET
DTSTART:20261025T010000
END:STANDARD
BEGIN:DAYLIGHT
TZOFFSETFROM:+0200
TZOFFSETTO:+0300
TZNAME:EEST
DTSTART:20270328T010000
END:DAYLIGHT
BEGIN:STANDARD
TZOFFSETFROM:+0300
TZOFFSETTO:+0200
TZNAME:EET
DTSTART:20271031T010000
END:STANDARD
END:VTIMEZONE
BEGIN:VEVENT
DTSTART;TZID=Europe/Tallinn:20260101T130000
DTEND;TZID=Europe/Tallinn:20260101T140000
DTSTAMP:20260423T013353
CREATED:20251204T091559Z
LAST-MODIFIED:20251218T134956Z
UID:6670-1767272400-1767276000@www.johvi.ee
SUMMARY:Uue aasta jooks
DESCRIPTION:Tule Jõhvi JALKAMAJA 5 km kerges tempos sörkjooksule või kergele jalutuskäigule promenaadil.\nAlgus kell 13.00.\nSissepääs tasuta. Korraldajad: I&T FitZone\, Jõhvi Sörk ja Jõhvi FC Phoenix\n\n 
URL:https://www.johvi.ee/sundmus/6670/
LOCATION:Jõhvi jalkamaja\, Jaama 6\, Jõhvi
ATTACH;FMTTYPE=image/jpeg:https://www.johvi.ee/wp-content/uploads/2025/12/uue-aasta-jooks-2026.jpg
END:VEVENT
BEGIN:VEVENT
DTSTART;TZID=Europe/Tallinn:20251223T180000
DTEND;TZID=Europe/Tallinn:20251223T193000
DTSTAMP:20260423T013353
CREATED:20251201T130315Z
LAST-MODIFIED:20251201T130315Z
UID:6509-1766512800-1766518200@www.johvi.ee
SUMMARY:Tõnu Raadik ja Toomas Lunge "Jõuluvõluaeg"
DESCRIPTION:
URL:https://www.johvi.ee/sundmus/tonu-raadik-ja-toomas-lunge-jouluvoluaeg/
LOCATION:Jõhvi Mihkli kirik\, Rakvere tn 6\, Jõhvi\, Estonia
ATTACH;FMTTYPE=image/jpeg:https://www.johvi.ee/wp-content/uploads/2025/12/Raadik23.12.2025.jpg
END:VEVENT
BEGIN:VEVENT
DTSTART;TZID=Europe/Tallinn:20251218T173000
DTEND;TZID=Europe/Tallinn:20251218T190000
DTSTAMP:20260423T013353
CREATED:20251128T115709Z
LAST-MODIFIED:20251128T115709Z
UID:6471-1766079000-1766084400@www.johvi.ee
SUMMARY:Kohtumisõhtu loodusfotograafiga - Remo Savisaar
DESCRIPTION: 
URL:https://www.johvi.ee/sundmus/kohtumisohtu-loodusfotograafiga-remo-savisaar/
LOCATION:Jõhvi keskraamatukogu\, Rakvere 13a \, Ida-Virumaa\, Jõhvi\, Ida-Virumaa\, Estonia
ATTACH;FMTTYPE=image/png:https://www.johvi.ee/wp-content/uploads/2025/11/Remo-Savisaar.png
END:VEVENT
BEGIN:VEVENT
DTSTART;TZID=Europe/Tallinn:20251217T170000
DTEND;TZID=Europe/Tallinn:20251217T190000
DTSTAMP:20260423T013353
CREATED:20251209T072319Z
LAST-MODIFIED:20251209T072319Z
UID:6810-1765990800-1765998000@www.johvi.ee
SUMMARY:Jõhvi Muusikakooli jõulukontsert
DESCRIPTION:
URL:https://www.johvi.ee/sundmus/johvi-muusikakooli-joulukontsert/
LOCATION:Jõhvi Kontserdimaja\, Pargi 40\, Jõhvi\, Ida-Virumaa\, Estonia
ATTACH;FMTTYPE=image/jpeg:https://www.johvi.ee/wp-content/uploads/2025/12/Joulukontsert-2025.jpg
END:VEVENT
BEGIN:VEVENT
DTSTART;TZID=Europe/Tallinn:20251215T100000
DTEND;TZID=Europe/Tallinn:20251215T180000
DTSTAMP:20260423T013353
CREATED:20251124T085512Z
LAST-MODIFIED:20251201T125543Z
UID:6168-1765792800-1765821600@www.johvi.ee
SUMMARY:Raamatuaasta vaiba tikkimine
DESCRIPTION:Eesti raamatu 500. sünnipäeva auks valmib ligi 17 meetri pikkune piltvaip\, mis kujutab meie raamatu lugu. \nTikkimine Jõhvi Keskraamatukogus: \n15.12–19.12 kell 10.00–18.00 \n20.12 kell 10.00–16.00 \n22.12 kell 10.00–18.00 \n29.12–30.12 kell 10.00–18.00 \nInfo tel. 3370536\, 53827060
URL:https://www.johvi.ee/sundmus/raamatuaasta-vaiba-tikkimine/
LOCATION:Jõhvi keskraamatukogu\, Rakvere 13a \, Ida-Virumaa\, Jõhvi\, Ida-Virumaa\, Estonia
ATTACH;FMTTYPE=image/jpeg:https://www.johvi.ee/wp-content/uploads/2025/11/Ida-Virumaa_plakat_uus.jpg
END:VEVENT
BEGIN:VEVENT
DTSTART;TZID=Europe/Tallinn:20251214T100000
DTEND;TZID=Europe/Tallinn:20251214T120000
DTSTAMP:20260423T013353
CREATED:20251118T140529Z
LAST-MODIFIED:20251118T140529Z
UID:6090-1765706400-1765713600@www.johvi.ee
SUMMARY:Jõulueelne perehommik Tammiku Rahvamajas
DESCRIPTION:Kolmanda advendi eel ootame peresid veetma hubast ja rõõmsat hommikut. Tule koos perega meisterdama\, naerma ja nautima advendivalgust ning jõulurõõmu\, mis soojendab hinge.10.00 – jõuluteemalised töötoad11.00 – Miku-Manni lasteteatri etendus “Lamba saba”11.30 – külla tuleb JÕULUVANALisainfo: Heli Vähk\, telefoni nr 5858 7381Olete südamest oodatud jagama kolmanda advendi rõõmu ja looma sooje jõulumälestusi!
URL:https://www.johvi.ee/sundmus/joulueelne-perehommik-tammiku-rahvamajas/
LOCATION:Tammiku Rahvamaja\, Tamme 17\, Tammiku alevik\, Estonia
ATTACH;FMTTYPE=image/jpeg:https://www.johvi.ee/wp-content/uploads/2025/11/584483720_1144189027800761_357472015397866826_n.jpg
END:VEVENT
BEGIN:VEVENT
DTSTART;TZID=Europe/Tallinn:20251213T130000
DTEND;TZID=Europe/Tallinn:20251213T143000
DTSTAMP:20260423T013353
CREATED:20251201T130030Z
LAST-MODIFIED:20251201T130030Z
UID:6498-1765630800-1765636200@www.johvi.ee
SUMMARY:Kirderanniku koori ja Jõhvi Gümnaasiumi kontsert "Jõulu ootuses"
DESCRIPTION:
URL:https://www.johvi.ee/sundmus/kirderanniku-koori-ja-johvi-gumnaasiumi-kontsert-joulu-ootuses/
LOCATION:Jõhvi Mihkli kirik\, Rakvere tn 6\, Jõhvi\, Estonia
ATTACH;FMTTYPE=image/jpeg:https://www.johvi.ee/wp-content/uploads/2025/12/Jouluootuses.jpg
END:VEVENT
BEGIN:VEVENT
DTSTART;TZID=Europe/Tallinn:20251213T110000
DTEND;TZID=Europe/Tallinn:20251213T150000
DTSTAMP:20260423T013353
CREATED:20251204T070433Z
LAST-MODIFIED:20251204T070433Z
UID:6613-1765623600-1765638000@www.johvi.ee
SUMMARY:I Jõhvi valla saalipetangi võistlus
DESCRIPTION:I Jõhvi valla saalipetangi võistlusJuhend1. EesmärkVõistluse eesmärgiks on propageerida saalipetanki. Petangi arendamine Ida-Virumaal. Välja selgitada parimad mängijad.\n2. Aeg ja kohtVõistlus toimub Voka spordihoones 13. Detsembril 2025 kell 11.00\n3. JuhtiminePeakorraldaja on Toila Spordi- ja kultuurikeskus koostöös Viru SK-ga.Peakohtunik on Juhan Neiland 56228909.\n4. OsavõtjadOsalema lubatakse kõik huvilised\, kes on ennast eelnevalt registreerunud.Iga osaleja vastutab ise enda tervisliku seisundi eest.\n5. Võistluste süsteemVõistluse süsteem selgub peale võistlejate registreerimist.\n6. AutasustamineVõitjatele auhinnad lisaks loosiauhinnad.\n7. MajandamineOsalemine kõikidele tasuta.\n8. RegistreerimineVõistlustele eelregistreerimine toimub siin: https://forms.office.com/Pages/ResponsePage.aspx…Kui pärast eelregistreerimist on veel vabu kohti\, siis on võimalik registreeruda ka kohapeal.\n9. MuuKõik üleskerkinud küsimused ja protestid lahendab peakohtunik.\nNB! Tegu on avaliku üritusega\, kus on lubatud pildistamine ja nende piltide avalikustamine.Vahetusjalanõud on kohustuslikud!
URL:https://www.johvi.ee/sundmus/i-johvi-valla-saalipetangi-voistlus/
LOCATION:Voka spordihoone\, Metsa tn 2\, Voka\, Estonia
ATTACH;FMTTYPE=image/jpeg:https://www.johvi.ee/wp-content/uploads/2025/12/591744590_1455667879897146_6807090950049622042_n.jpg
END:VEVENT
BEGIN:VEVENT
DTSTART;TZID=Europe/Tallinn:20251210T190000
DTEND;TZID=Europe/Tallinn:20251210T203000
DTSTAMP:20260423T013353
CREATED:20251201T130157Z
LAST-MODIFIED:20251201T130157Z
UID:6505-1765393200-1765398600@www.johvi.ee
SUMMARY:Jõulukontsert "Valguse helinad"
DESCRIPTION:
URL:https://www.johvi.ee/sundmus/joulukontsert-valguse-helinad/
LOCATION:Jõhvi Mihkli kirik\, Rakvere tn 6\, Jõhvi\, Estonia
ATTACH;FMTTYPE=image/png:https://www.johvi.ee/wp-content/uploads/2025/12/Saara-ja-Jakko-valguse-helinad.png
END:VEVENT
BEGIN:VEVENT
DTSTART;TZID=Europe/Tallinn:20251207T160000
DTEND;TZID=Europe/Tallinn:20251207T173000
DTSTAMP:20260423T013353
CREATED:20251114T100701Z
LAST-MODIFIED:20251114T100701Z
UID:6047-1765123200-1765128600@www.johvi.ee
SUMMARY:Advendikontsert "Talvised toonid"
DESCRIPTION:Esinevad:\nVirgo Veldi – saksofon\nDominika Ács (Ungari) – flööt\nJaan Ots – klaver
URL:https://www.johvi.ee/sundmus/advendikontsert-talvised-toonid/
LOCATION:Tammiku Rahvamaja\, Tamme 17\, Tammiku alevik\, Estonia
ATTACH;FMTTYPE=image/jpeg:https://www.johvi.ee/wp-content/uploads/2025/11/virumaa-muusika.jpg
END:VEVENT
BEGIN:VEVENT
DTSTART;TZID=Europe/Tallinn:20251205T180000
DTEND;TZID=Europe/Tallinn:20251205T200000
DTSTAMP:20260423T013353
CREATED:20251201T125802Z
LAST-MODIFIED:20251201T125802Z
UID:6492-1764957600-1764964800@www.johvi.ee
SUMMARY:Kodused kohtumised: Toivo Tänavsuu
DESCRIPTION:
URL:https://www.johvi.ee/sundmus/kodused-kohtumised-toivo-tanavsuu/
LOCATION:Jõhvi Kunstikool\, Hariduse tn 3\, Jõhvi\, Estonia
ATTACH;FMTTYPE=image/png:https://www.johvi.ee/wp-content/uploads/2025/12/Kingitud-elu.png
END:VEVENT
BEGIN:VEVENT
DTSTART;TZID=Europe/Tallinn:20251203T170000
DTEND;TZID=Europe/Tallinn:20251203T190000
DTSTAMP:20260423T013353
CREATED:20251127T071454Z
LAST-MODIFIED:20251127T071627Z
UID:6221-1764781200-1764788400@www.johvi.ee
SUMMARY:muusikaline teemapäev „Noorte teekond muusikamaailma“
DESCRIPTION:
URL:https://www.johvi.ee/sundmus/muusikaline-teemapaeva-noorte-teekond-muusikamaailma/
LOCATION:Jõhvi Gümnaasium\, Hariduse tn 5b\, Jõhvi
ATTACH;FMTTYPE=image/png:https://www.johvi.ee/wp-content/uploads/2025/11/image0.png
END:VEVENT
BEGIN:VEVENT
DTSTART;TZID=Europe/Tallinn:20251202T173000
DTEND;TZID=Europe/Tallinn:20251202T190000
DTSTAMP:20260423T013353
CREATED:20251119T140026Z
LAST-MODIFIED:20251119T140026Z
UID:6115-1764696600-1764702000@www.johvi.ee
SUMMARY:Reisijutud: California
DESCRIPTION:
URL:https://www.johvi.ee/sundmus/reisijutud-california/
LOCATION:Jõhvi keskraamatukogu\, Rakvere 13a \, Ida-Virumaa\, Jõhvi\, Ida-Virumaa\, Estonia
ATTACH;FMTTYPE=image/png:https://www.johvi.ee/wp-content/uploads/2025/11/california.png
END:VEVENT
BEGIN:VEVENT
DTSTART;TZID=Europe/Tallinn:20251130T180000
DTEND;TZID=Europe/Tallinn:20251130T190000
DTSTAMP:20260423T013353
CREATED:20251119T135900Z
LAST-MODIFIED:20251119T135900Z
UID:6110-1764525600-1764529200@www.johvi.ee
SUMMARY:I Advendiõhtu
DESCRIPTION:Peatselt süttib esimene advendituli!\n\nOotame Sind Jõhvi Muusikaväljak 30. november kell 18.00.\nTantsime meie inimeste oma lugu. Olemise viis ja juured\, mis hoiavad meid koos.Õhtus saavad kokku erinevad põlvkonnad ja tantsurühmad\,et jagada valgust\, liikumist ja ühist hingamist.
URL:https://www.johvi.ee/sundmus/i-advendiohtu/
ATTACH;FMTTYPE=image/jpeg:https://www.johvi.ee/wp-content/uploads/2025/11/iseoma.jpg
END:VEVENT
BEGIN:VEVENT
DTSTART;TZID=Europe/Tallinn:20251126T173000
DTEND;TZID=Europe/Tallinn:20251126T193000
DTSTAMP:20260423T013353
CREATED:20251030T100204Z
LAST-MODIFIED:20251105T131800Z
UID:4939-1764178200-1764185400@www.johvi.ee
SUMMARY:Loeng: Kuidas surid Vene valitsejad? Urmas E. Liivi õõvaloeng
DESCRIPTION:Urmas E. Liivi loeng idanaabri süngest ajaloost – tsaaridest kuni tänapäevani. Loengus käsitletakse\, kuidas valitseja surm toob alati kaasa suure segaduse ja kõikehõlmava ühiskondliku raputuse. Tempokas ettekanne sisaldab rohkelt fotosid\, filmijuppe\, arhiivikaadreid ja muusikat.
URL:https://www.johvi.ee/sundmus/loeng-kuidas-surid-vene-valitsejad-urmas-e-liivi-oovaloeng/
LOCATION:Jõhvi keskraamatukogu\, Rakvere 13a \, Ida-Virumaa\, Jõhvi\, Ida-Virumaa\, Estonia
ATTACH;FMTTYPE=image/jpeg:https://www.johvi.ee/wp-content/uploads/2025/10/liiv-plakat-UUS.jpg
END:VEVENT
BEGIN:VEVENT
DTSTART;TZID=Europe/Tallinn:20251122T130000
DTEND;TZID=Europe/Tallinn:20251122T180000
DTSTAMP:20260423T013353
CREATED:20251113T152257Z
LAST-MODIFIED:20251113T152257Z
UID:6030-1763816400-1763834400@www.johvi.ee
SUMMARY:Pärimuspidu Baltica IDA-VIRUMAA eelpidu
DESCRIPTION:Ida-Virumaa pärimussõbrad kohtuvad Tammikus!\nPeo esimeses pooles astuvad üles:\n\nfolklooriansambel Suprjadki\nHeino Jäger\nKohtla-Järve Järve Kooli pärimusrühm\nLüganuse kandi rahvas (naisrühm Omasoodu\, segarühm Lampjalakesed\, Lüganuse kapell)\nnaisrahvatantsurühm Tammiku\nvokaalansambel Malvõ\nIisaku Sigin-Sagin tantsurühmad\nregilauluansambel Silmaline\nAlutaguse Rahvamuusikute ja Kiikla Kogukonnateatri ühine grupp\nTammiku segaansambel\nmemmederühm Värten\nfolklooriansambel Tuuleluule\n\n\nMis juhtub peo teises osas? \n\nPeole annavad hoogu Asso Int ja Martin Müller.\n\nSündmus on tasuta.\n\nIda-Virumaa eelpidu korraldab Tammiku rahvamaja koos kohaliku kogukonnaga.\nEelpidu toetavad: Eesti Folkloorinõukogu\, Eesti Rahvakultuuri Keskus\, Eesti Kultuurkapital ja Ida-Virumaa Omavalitsuste Liit.\n\n\nKontakt:Heli Vähk\nheli.vahk@mail.ee\n58 587 381
URL:https://www.johvi.ee/sundmus/parimuspidu-baltica-ida-virumaa-eelpidu/
LOCATION:Tammiku Rahvamaja\, Tamme 17\, Tammiku alevik\, Estonia
ATTACH;FMTTYPE=image/jpeg:https://www.johvi.ee/wp-content/uploads/2025/11/Baltica-Ida-Virumaa-Tammiku-eelpidu-FB.jpg
END:VEVENT
BEGIN:VEVENT
DTSTART;TZID=Europe/Tallinn:20251121T100000
DTEND;TZID=Europe/Tallinn:20251121T160000
DTSTAMP:20260423T013353
CREATED:20251030T095303Z
LAST-MODIFIED:20251030T100237Z
UID:4932-1763719200-1763740800@www.johvi.ee
SUMMARY:Kuulmistestimine
DESCRIPTION:Ida-Virumaa Vaegkuuljate ühing kutsub kuulmistestimisele. \n\nKuulmistestimine\nKuuldeaparaatide hooldus\nNõustamine\n\nTestimine ja hooldus on tasuline: 5 eurot (sularahas) \nMüügil soodsalt kuulmisaparaatide patareid. \nEelregistreerimine: \nhttps://kuulmisbuss.smartbron.ee/\n526 1974 (Õie)\noie.reidma@gmail.com
URL:https://www.johvi.ee/sundmus/kuulmistestimine/
LOCATION:Eakate Päevakeskus\, Kaare 3\, Jõhvi\, Ida-Virumaa\, Estonia
ATTACH;FMTTYPE=image/jpeg:https://www.johvi.ee/wp-content/uploads/2025/10/kuulmistestimine.jpg
END:VEVENT
BEGIN:VEVENT
DTSTART;TZID=Europe/Tallinn:20251120T100000
DTEND;TZID=Europe/Tallinn:20251120T120000
DTSTAMP:20260423T013353
CREATED:20251030T094316Z
LAST-MODIFIED:20251030T094409Z
UID:4921-1763632800-1763640000@www.johvi.ee
SUMMARY:Kuulmisklubi teabepäev
DESCRIPTION:Ida-Virumaa Vaegkuuljate ühing kutsub teabepäevale “Kuulmisprobleemidegta elanike mured”. \nTule räägi\, mis mureks\, koos leiame lahenduse. \nOodatud kõik huvilised.
URL:https://www.johvi.ee/sundmus/kuulmisklubi-teabepaev/
LOCATION:Eakate Päevakeskus\, Kaare 3\, Jõhvi\, Ida-Virumaa\, Estonia
ATTACH;FMTTYPE=image/jpeg:https://www.johvi.ee/wp-content/uploads/2025/10/Kuulmisklubi.jpg
END:VEVENT
BEGIN:VEVENT
DTSTART;TZID=Europe/Tallinn:20251114T170000
DTEND;TZID=Europe/Tallinn:20251114T183000
DTSTAMP:20260423T013353
CREATED:20251110T064828Z
LAST-MODIFIED:20251110T065607Z
UID:5642-1763139600-1763145000@www.johvi.ee
SUMMARY:Kodused kohtumised - Henrik Raave
DESCRIPTION:
URL:https://www.johvi.ee/sundmus/kodused-kohtumised-henrik-raave/
LOCATION:kood/Jõhvi\, Tartu põik 5\, Jõhvi
ATTACH;FMTTYPE=image/png:https://www.johvi.ee/wp-content/uploads/2025/11/Henrik-Raave.png
END:VEVENT
BEGIN:VEVENT
DTSTART;TZID=Europe/Tallinn:20251113T173000
DTEND;TZID=Europe/Tallinn:20251113T190000
DTSTAMP:20260423T013353
CREATED:20251030T093655Z
LAST-MODIFIED:20251030T093923Z
UID:4913-1763055000-1763060400@www.johvi.ee
SUMMARY:Kohtumine Väino Laisaarega
DESCRIPTION:Reisijutud vol. 2
URL:https://www.johvi.ee/sundmus/kohtumine-vaino-laisaarega/
LOCATION:Jõhvi keskraamatukogu\, Rakvere 13a \, Ida-Virumaa\, Jõhvi\, Ida-Virumaa\, Estonia
ATTACH;FMTTYPE=image/png:https://www.johvi.ee/wp-content/uploads/2025/10/vaints-plakat-2.png
END:VEVENT
BEGIN:VEVENT
DTSTART;TZID=Europe/Tallinn:20251108T120000
DTEND;TZID=Europe/Tallinn:20251108T150000
DTSTAMP:20260423T013353
CREATED:20251104T130440Z
LAST-MODIFIED:20251104T130440Z
UID:5350-1762603200-1762614000@www.johvi.ee
SUMMARY:ISADEPÄEV – ISADE TAASKÄIVITUS
DESCRIPTION:Isadepäeva – ISADE TAASKÄIVITUS \n8. novembril kell 12.00–14.30 ootame kõiki Jõhvi Kontserdimajja\, et ühiselt tähistada isadepäeva.\nSee on päev\, mil avaldame tunnustust ja tänu isadele nende hoolivuse\, toe ja eeskuju eest. Tule koos perega ja naudi sisukaid tegevusi\, head seltskonda ning sooja meeleolu. \nKavas: \nkell 12.15 töötuba „Isa – Taaskäivitust“ (eesti keeles). Töötoa viib läbi Jevgeni Timoštšuk. \nkell 13.00 esineb Circus Studio Folie (Tallinn) \nkell 13.30 мастер-класс „Папа – ПЕРЕЗАГРУЗКА“ (vene keeles). Töötoa viib läbi Jevgeni Timoštšuk. \nkell 12.00-14.30 toimuvad lastele ja emadele erinevad tegevused – töötoad\, mängud ja tantsud.\nSissepääs on tasuta.
URL:https://www.johvi.ee/sundmus/isadepaev-isade-taaskaivitus/
LOCATION:Jõhvi Kontserdimaja\, Pargi 40\, Jõhvi\, Ida-Virumaa\, Estonia
ATTACH;FMTTYPE=image/png:https://www.johvi.ee/wp-content/uploads/2025/11/Variant-3-768x1086-1.png
END:VEVENT
BEGIN:VEVENT
DTSTART;TZID=Europe/Tallinn:20251107T160000
DTEND;TZID=Europe/Tallinn:20251107T180000
DTSTAMP:20260423T013353
CREATED:20251103T074223Z
LAST-MODIFIED:20251103T074608Z
UID:4996-1762531200-1762538400@www.johvi.ee
SUMMARY:Helkuri valmistamise töötuba
DESCRIPTION:Jõhvi noortekeskus korraldab helkurite valmistamise õpitoa. Tule ja valmista omale tasuta helkiv kaunistus\, mis teeb sind pimedal ajal nähtavaks! \nOodatud on kõik huvilised\, väikesed ja suured! Töötuba toimub Jõhvi valla turvalisuse nädala raames Jõhvi keskraamatukogus.
URL:https://www.johvi.ee/sundmus/helkuri-valmistamise-tootuba/
LOCATION:Jõhvi keskraamatukogu\, Rakvere 13a \, Ida-Virumaa\, Jõhvi\, Ida-Virumaa\, Estonia
ATTACH;FMTTYPE=image/png:https://www.johvi.ee/wp-content/uploads/2025/11/Helkuri-tootuba.png
END:VEVENT
BEGIN:VEVENT
DTSTART;TZID=Europe/Tallinn:20251106T170000
DTEND;TZID=Europe/Tallinn:20251106T180000
DTSTAMP:20260423T013353
CREATED:20251030T093149Z
LAST-MODIFIED:20251030T093149Z
UID:4904-1762448400-1762452000@www.johvi.ee
SUMMARY:Muusikaline kontsert-kohtumine
DESCRIPTION:Helilooja interpreet Emily Ocean / Emilya Šuvalova \nMeditatiivne helirännak\, kus kohtuvad klaverimuusika ja inprovisatsioon.
URL:https://www.johvi.ee/sundmus/muusikaline-kontsert-kohtumine/
LOCATION:Jõhvi Kontserdimaja\, Pargi 40\, Jõhvi\, Ida-Virumaa\, Estonia
ATTACH;FMTTYPE=image/jpeg:https://www.johvi.ee/wp-content/uploads/2025/10/Muusikaline-kontset-kohtumine-Emiliya.jpg
END:VEVENT
BEGIN:VEVENT
DTSTART;TZID=Europe/Tallinn:20251104T073000
DTEND;TZID=Europe/Tallinn:20251104T183000
DTSTAMP:20260423T013353
CREATED:20251030T091811Z
LAST-MODIFIED:20251030T093256Z
UID:4889-1762241400-1762281000@www.johvi.ee
SUMMARY:Samuel Golombi filateelianäituse avamine
DESCRIPTION:Filateelianäitus “Ingeri/Karjala Vabariikide lühike postielu” Jõhvi Keskraamatukogus. \nKogunud ja koostanud Samuel Golomb\, Virumaa koguja\, RSF Estonia liige \nNovember-detsember 2025
URL:https://www.johvi.ee/sundmus/samuel-golombi-filateelianaituse-avamine/
LOCATION:Jõhvi keskraamatukogu\, Rakvere 13a \, Ida-Virumaa\, Jõhvi\, Ida-Virumaa\, Estonia
ATTACH;FMTTYPE=image/jpeg:https://www.johvi.ee/wp-content/uploads/2025/10/Golombi-filateelianaitus-1.jpg
END:VEVENT
END:VCALENDAR