BEGIN:VCALENDAR
VERSION:2.0
PRODID:-//Jõhvi Vald - ECPv6.15.20//NONSGML v1.0//EN
CALSCALE:GREGORIAN
METHOD:PUBLISH
X-WR-CALNAME:Jõhvi Vald
X-ORIGINAL-URL:https://www.johvi.ee
X-WR-CALDESC:Events for Jõhvi Vald
REFRESH-INTERVAL;VALUE=DURATION:PT1H
X-Robots-Tag:noindex
X-PUBLISHED-TTL:PT1H
BEGIN:VTIMEZONE
TZID:Europe/Tallinn
BEGIN:DAYLIGHT
TZOFFSETFROM:+0200
TZOFFSETTO:+0300
TZNAME:EEST
DTSTART:20250330T010000
END:DAYLIGHT
BEGIN:STANDARD
TZOFFSETFROM:+0300
TZOFFSETTO:+0200
TZNAME:EET
DTSTART:20251026T010000
END:STANDARD
BEGIN:DAYLIGHT
TZOFFSETFROM:+0200
TZOFFSETTO:+0300
TZNAME:EEST
DTSTART:20260329T010000
END:DAYLIGHT
BEGIN:STANDARD
TZOFFSETFROM:+0300
TZOFFSETTO:+0200
TZNAME:EET
DTSTART:20261025T010000
END:STANDARD
BEGIN:DAYLIGHT
TZOFFSETFROM:+0200
TZOFFSETTO:+0300
TZNAME:EEST
DTSTART:20270328T010000
END:DAYLIGHT
BEGIN:STANDARD
TZOFFSETFROM:+0300
TZOFFSETTO:+0200
TZNAME:EET
DTSTART:20271031T010000
END:STANDARD
END:VTIMEZONE
BEGIN:VEVENT
DTSTART;TZID=Europe/Tallinn:20260404T130000
DTEND;TZID=Europe/Tallinn:20260404T150000
DTSTAMP:20260422T160858
CREATED:20260319T142023Z
LAST-MODIFIED:20260319T142023Z
UID:11014-1775307600-1775314800@www.johvi.ee
SUMMARY:Naljapäev Tammiku Rahvamajas
DESCRIPTION:4. aprill 2026\, kell 13.00–15.00 \nJõhvi valla kogukond on oodatud lõbusale Naljapäeva peole\, kus saab koos naerda\, mängida ja mõnusalt aega veeta. \nPeojuht Pipi Pikksukk! \nTule naljapäevale kostüümis. \n\nTule ja veeda üks rõõmus ning sõbralik pärastlõuna meie kogukonnas! \nKorraldaja: Ida-Virumaa Vaegkuuljate Ühing \nToetaja: Jõhvi vald
URL:https://www.johvi.ee/sundmus/naljapaev-tammiku-rahvamajas/
LOCATION:Tammiku Rahvamaja\, Tamme 17\, Tammiku alevik\, Estonia
ATTACH;FMTTYPE=image/jpeg:https://www.johvi.ee/wp-content/uploads/2026/03/Piirideta-pidu.-1.jpg
END:VEVENT
END:VCALENDAR