BEGIN:VCALENDAR
VERSION:2.0
PRODID:-//Jõhvi Vald - ECPv6.15.20//NONSGML v1.0//EN
CALSCALE:GREGORIAN
METHOD:PUBLISH
X-ORIGINAL-URL:https://www.johvi.ee
X-WR-CALDESC:Events for Jõhvi Vald
REFRESH-INTERVAL;VALUE=DURATION:PT1H
X-Robots-Tag:noindex
X-PUBLISHED-TTL:PT1H
BEGIN:VTIMEZONE
TZID:Europe/Tallinn
BEGIN:DAYLIGHT
TZOFFSETFROM:+0200
TZOFFSETTO:+0300
TZNAME:EEST
DTSTART:20250330T010000
END:DAYLIGHT
BEGIN:STANDARD
TZOFFSETFROM:+0300
TZOFFSETTO:+0200
TZNAME:EET
DTSTART:20251026T010000
END:STANDARD
BEGIN:DAYLIGHT
TZOFFSETFROM:+0200
TZOFFSETTO:+0300
TZNAME:EEST
DTSTART:20260329T010000
END:DAYLIGHT
BEGIN:STANDARD
TZOFFSETFROM:+0300
TZOFFSETTO:+0200
TZNAME:EET
DTSTART:20261025T010000
END:STANDARD
BEGIN:DAYLIGHT
TZOFFSETFROM:+0200
TZOFFSETTO:+0300
TZNAME:EEST
DTSTART:20270328T010000
END:DAYLIGHT
BEGIN:STANDARD
TZOFFSETFROM:+0300
TZOFFSETTO:+0200
TZNAME:EET
DTSTART:20271031T010000
END:STANDARD
END:VTIMEZONE
BEGIN:VEVENT
DTSTART;TZID=Europe/Tallinn:20260318T110000
DTEND;TZID=Europe/Tallinn:20260318T130000
DTSTAMP:20260422T174630
CREATED:20260316T075058Z
LAST-MODIFIED:20260316T075209Z
UID:10721-1773831600-1773838800@www.johvi.ee
SUMMARY:Jõhvi valla eakad on oodatud Apollo kinno vaatama filmi „Meie Erika“
DESCRIPTION:Jätkame eakate kinoklubi üritustega ka uuel aastal!18. märtsil kell 11.00 on Jõhvi valla eakad oodatud Apollo Kinno vaatama filmi „Meie Erika“.Tule veeda mõnus hommik kinoelamuse ja hea seltskonnaga! Loe lisaks: https://www.apollokino.ee/event/6578/meie_erika
URL:https://www.johvi.ee/sundmus/johvi-valla-eakad-oodatud-apollo-kinno-vaatama-filmi-meie-erika/
LOCATION:Jõhvi Apollo kino\, Puru tee 1\, Jõhvi\, Estonia
ATTACH;FMTTYPE=image/jpeg:https://www.johvi.ee/wp-content/uploads/2026/03/648155804_1226117503065674_6657552675419511927_n.jpg
END:VEVENT
BEGIN:VEVENT
DTSTART;TZID=Europe/Tallinn:20260318T130000
DTEND;TZID=Europe/Tallinn:20260318T170000
DTSTAMP:20260422T174630
CREATED:20260309T093905Z
LAST-MODIFIED:20260309T093905Z
UID:10566-1773838800-1773853200@www.johvi.ee
SUMMARY:Ida-Virumaa vokaalansamblite ja solistide päev
DESCRIPTION:Oled oodatud nautima kaunist muusikat ja andekaid esinejaid! \nLavale astuvad Ida-Virumaa vokaalansamblid ja solistid ning päeva erikülalisena esineb armastatud laulja Anne Velli. \nSissepääs on TASUTA!\nLisainfo: 58587381 (Heli) \nTule veeda meeleolukas pärastlõuna hea muusika seltsis ja toeta meie kohalikke laulutalente!
URL:https://www.johvi.ee/sundmus/ida-virumaa-vokaalansamblite-ja-solistide-paev/
LOCATION:Tammiku Rahvamaja\, Tamme 17\, Tammiku alevik\, Estonia
ATTACH;FMTTYPE=image/png:https://www.johvi.ee/wp-content/uploads/2026/03/Ida-Virumaa-vokaalansamblite-ja-solistide-paev-724x1024-1.png
END:VEVENT
BEGIN:VEVENT
DTSTART;TZID=Europe/Tallinn:20260318T170000
DTEND;TZID=Europe/Tallinn:20260318T183000
DTSTAMP:20260422T174630
CREATED:20260310T095950Z
LAST-MODIFIED:20260310T102353Z
UID:10588-1773853200-1773858600@www.johvi.ee
SUMMARY:Reisiklubi jutud
DESCRIPTION:Oled oodatud kuulama poetess Juli Suvi reisikogemusi Fääri saartest!
URL:https://www.johvi.ee/sundmus/reisiklubi-jutud-2/
LOCATION:Jõhvi keskraamatukogu\, Rakvere 13a \, Ida-Virumaa\, Jõhvi\, Ida-Virumaa\, Estonia
ATTACH;FMTTYPE=image/png:https://www.johvi.ee/wp-content/uploads/2026/03/Faaride-sfaaride-vaaramatult-vaarikas-vaartus.png
END:VEVENT
END:VCALENDAR