BEGIN:VCALENDAR
VERSION:2.0
PRODID:-//Jõhvi Vald - ECPv6.15.20//NONSGML v1.0//EN
CALSCALE:GREGORIAN
METHOD:PUBLISH
X-WR-CALNAME:Jõhvi Vald
X-ORIGINAL-URL:https://www.johvi.ee
X-WR-CALDESC:Events for Jõhvi Vald
REFRESH-INTERVAL;VALUE=DURATION:PT1H
X-Robots-Tag:noindex
X-PUBLISHED-TTL:PT1H
BEGIN:VTIMEZONE
TZID:Europe/Tallinn
BEGIN:DAYLIGHT
TZOFFSETFROM:+0200
TZOFFSETTO:+0300
TZNAME:EEST
DTSTART:20250330T010000
END:DAYLIGHT
BEGIN:STANDARD
TZOFFSETFROM:+0300
TZOFFSETTO:+0200
TZNAME:EET
DTSTART:20251026T010000
END:STANDARD
BEGIN:DAYLIGHT
TZOFFSETFROM:+0200
TZOFFSETTO:+0300
TZNAME:EEST
DTSTART:20260329T010000
END:DAYLIGHT
BEGIN:STANDARD
TZOFFSETFROM:+0300
TZOFFSETTO:+0200
TZNAME:EET
DTSTART:20261025T010000
END:STANDARD
BEGIN:DAYLIGHT
TZOFFSETFROM:+0200
TZOFFSETTO:+0300
TZNAME:EEST
DTSTART:20270328T010000
END:DAYLIGHT
BEGIN:STANDARD
TZOFFSETFROM:+0300
TZOFFSETTO:+0200
TZNAME:EET
DTSTART:20271031T010000
END:STANDARD
END:VTIMEZONE
BEGIN:VEVENT
DTSTART;TZID=Europe/Tallinn:20260312T173000
DTEND;TZID=Europe/Tallinn:20260312T183000
DTSTAMP:20260422T180452
CREATED:20260210T152528Z
LAST-MODIFIED:20260210T153222Z
UID:9717-1773336600-1773340200@www.johvi.ee
SUMMARY:RAAMATUESITLUS: Jevgenia Parv "Ta kinkis mulle vabaduse"
DESCRIPTION:Selle raamatu autor on RusDelfi ajakirjanik Jevgenia Parv. See on tema isiklik\, valus ja aus lugu – teekond läbi nelja abielu sõltuvusest küpse ja vaba armastuseni.Raamatu keskmes on Jevgenia suhted ERRi ajakirjaniku Jüri Nikolaeviga. See on ühtlasi lugu kahest ajakirjanikust\, kes on õppinud muutma senistes suhetes kogetud kontrolli ja hirmu usalduseks ning läheduseks.
URL:https://www.johvi.ee/sundmus/raamatuesitlus-jevgenia-parv-ta-kinkis-mulle-vabaduse/
ATTACH;FMTTYPE=image/png:https://www.johvi.ee/wp-content/uploads/2026/02/jevgenia_plakat.png
END:VEVENT
END:VCALENDAR