BEGIN:VCALENDAR
VERSION:2.0
PRODID:-//Jõhvi Vald - ECPv6.15.20//NONSGML v1.0//EN
CALSCALE:GREGORIAN
METHOD:PUBLISH
X-ORIGINAL-URL:https://www.johvi.ee
X-WR-CALDESC:Events for Jõhvi Vald
REFRESH-INTERVAL;VALUE=DURATION:PT1H
X-Robots-Tag:noindex
X-PUBLISHED-TTL:PT1H
BEGIN:VTIMEZONE
TZID:Europe/Tallinn
BEGIN:DAYLIGHT
TZOFFSETFROM:+0200
TZOFFSETTO:+0300
TZNAME:EEST
DTSTART:20250330T010000
END:DAYLIGHT
BEGIN:STANDARD
TZOFFSETFROM:+0300
TZOFFSETTO:+0200
TZNAME:EET
DTSTART:20251026T010000
END:STANDARD
BEGIN:DAYLIGHT
TZOFFSETFROM:+0200
TZOFFSETTO:+0300
TZNAME:EEST
DTSTART:20260329T010000
END:DAYLIGHT
BEGIN:STANDARD
TZOFFSETFROM:+0300
TZOFFSETTO:+0200
TZNAME:EET
DTSTART:20261025T010000
END:STANDARD
BEGIN:DAYLIGHT
TZOFFSETFROM:+0200
TZOFFSETTO:+0300
TZNAME:EEST
DTSTART:20270328T010000
END:DAYLIGHT
BEGIN:STANDARD
TZOFFSETFROM:+0300
TZOFFSETTO:+0200
TZNAME:EET
DTSTART:20271031T010000
END:STANDARD
END:VTIMEZONE
BEGIN:VEVENT
DTSTART;TZID=Europe/Tallinn:20260309T093000
DTEND;TZID=Europe/Tallinn:20260309T180000
DTSTAMP:20260422T174629
CREATED:20260309T091026Z
LAST-MODIFIED:20260309T091026Z
UID:10548-1773048600-1773079200@www.johvi.ee
SUMMARY:Ida-Virumaa Kooliteatrite Festival 2026
DESCRIPTION:Sel korral toimub Ida-Virumaa Kooliteatrite Festival 2026 9.-10. märtsil Jõhvi Kontserdimajas! Lavale astuvad Ida-Virumaa koolide\, huvikoolide ja kultuurimajade teatri- ning näiteringide noored. Tule ja ela kaasa nende loomingulisusele ning näitlejameisterlikkusele!\n Sissepääs: Tasuta\n Ajakava: https://www.huvikeskus.info/2026/02/ivkf-2026-ajakava/\n\nKahepäevane festival toob lavale mitmekesise kavaga etendused\, mis sobivad igas vanuses publikule. Tegu on suurepärase võimalusega toetada noorte kultuuriarmastust ning nautida noorte loodud teatrit!Võta pere ja sõbrad kaasa ning veedame koos inspireerivaid teatripäevi!
URL:https://www.johvi.ee/sundmus/ida-virumaa-kooliteatrite-festival-2026/
LOCATION:Jõhvi Kontserdimaja\, Pargi 40\, Jõhvi\, Ida-Virumaa\, Estonia
ATTACH;FMTTYPE=image/jpeg:https://www.johvi.ee/wp-content/uploads/2026/03/teater1.jpg
END:VEVENT
END:VCALENDAR