BEGIN:VCALENDAR
VERSION:2.0
PRODID:-//Jõhvi Vald - ECPv6.15.20//NONSGML v1.0//EN
CALSCALE:GREGORIAN
METHOD:PUBLISH
X-ORIGINAL-URL:https://www.johvi.ee
X-WR-CALDESC:Events for Jõhvi Vald
REFRESH-INTERVAL;VALUE=DURATION:PT1H
X-Robots-Tag:noindex
X-PUBLISHED-TTL:PT1H
BEGIN:VTIMEZONE
TZID:Europe/Tallinn
BEGIN:DAYLIGHT
TZOFFSETFROM:+0200
TZOFFSETTO:+0300
TZNAME:EEST
DTSTART:20250330T010000
END:DAYLIGHT
BEGIN:STANDARD
TZOFFSETFROM:+0300
TZOFFSETTO:+0200
TZNAME:EET
DTSTART:20251026T010000
END:STANDARD
BEGIN:DAYLIGHT
TZOFFSETFROM:+0200
TZOFFSETTO:+0300
TZNAME:EEST
DTSTART:20260329T010000
END:DAYLIGHT
BEGIN:STANDARD
TZOFFSETFROM:+0300
TZOFFSETTO:+0200
TZNAME:EET
DTSTART:20261025T010000
END:STANDARD
BEGIN:DAYLIGHT
TZOFFSETFROM:+0200
TZOFFSETTO:+0300
TZNAME:EEST
DTSTART:20270328T010000
END:DAYLIGHT
BEGIN:STANDARD
TZOFFSETFROM:+0300
TZOFFSETTO:+0200
TZNAME:EET
DTSTART:20271031T010000
END:STANDARD
END:VTIMEZONE
BEGIN:VEVENT
DTSTART;TZID=Europe/Tallinn:20260228T110000
DTEND;TZID=Europe/Tallinn:20260228T150000
DTSTAMP:20260422T174607
CREATED:20260122T145210Z
LAST-MODIFIED:20260122T145210Z
UID:8718-1772276400-1772290800@www.johvi.ee
SUMMARY:Kohtla-Nõmme Vastlapäev
DESCRIPTION:Toila Spordi- ja kultuurikeskus koostöös Eesti kaevandusmuuseumiga korraldavad 28. veebruaril vastlapäeva.\nKavas on:Hobustega sõitTuubitamineKelgutamineLõbusõit lendava vaibagaAvatud kohvikUisutamine*\n* selgub nädal enne sündmust
URL:https://www.johvi.ee/sundmus/kohtla-nomme-vastlapaev/
LOCATION:Eesti Kaevandusmuuseum\, Kohtla saeveski\, Kohtla-Nõmme\, Estonia
ATTACH;FMTTYPE=image/jpeg:https://www.johvi.ee/wp-content/uploads/2026/01/619298285_1498914192239181_5631082386678482126_n.jpg
END:VEVENT
END:VCALENDAR