BEGIN:VCALENDAR
VERSION:2.0
PRODID:-//Jõhvi Vald - ECPv6.15.20//NONSGML v1.0//EN
CALSCALE:GREGORIAN
METHOD:PUBLISH
X-WR-CALNAME:Jõhvi Vald
X-ORIGINAL-URL:https://www.johvi.ee
X-WR-CALDESC:Events for Jõhvi Vald
REFRESH-INTERVAL;VALUE=DURATION:PT1H
X-Robots-Tag:noindex
X-PUBLISHED-TTL:PT1H
BEGIN:VTIMEZONE
TZID:Europe/Tallinn
BEGIN:DAYLIGHT
TZOFFSETFROM:+0200
TZOFFSETTO:+0300
TZNAME:EEST
DTSTART:20250330T010000
END:DAYLIGHT
BEGIN:STANDARD
TZOFFSETFROM:+0300
TZOFFSETTO:+0200
TZNAME:EET
DTSTART:20251026T010000
END:STANDARD
BEGIN:DAYLIGHT
TZOFFSETFROM:+0200
TZOFFSETTO:+0300
TZNAME:EEST
DTSTART:20260329T010000
END:DAYLIGHT
BEGIN:STANDARD
TZOFFSETFROM:+0300
TZOFFSETTO:+0200
TZNAME:EET
DTSTART:20261025T010000
END:STANDARD
BEGIN:DAYLIGHT
TZOFFSETFROM:+0200
TZOFFSETTO:+0300
TZNAME:EEST
DTSTART:20270328T010000
END:DAYLIGHT
BEGIN:STANDARD
TZOFFSETFROM:+0300
TZOFFSETTO:+0200
TZNAME:EET
DTSTART:20271031T010000
END:STANDARD
END:VTIMEZONE
BEGIN:VEVENT
DTSTART;TZID=Europe/Tallinn:20260224T071500
DTEND;TZID=Europe/Tallinn:20260224T083000
DTSTAMP:20260422T174439
CREATED:20260210T171443Z
LAST-MODIFIED:20260210T171443Z
UID:9738-1771917300-1771921800@www.johvi.ee
SUMMARY:Eesti Vabariigi 108. aastapäeva tähistamine Valastel
DESCRIPTION:Eesti Vabariigi 108. aastapäeva pidulik lipu heiskamine VALASTEL!\nNB! Palun võta kaasa käsilipp või trikoloori sümboolika – hoiame sini-must-valget au sees!\n24. veebruaril\, kell 7.20 Valastel joa juures.\nPeomeeleolu aitavad luua Kirderanniku ja Kaevuri ühendkoor ja Kuppari naisrühm.Tervituskõned ja kodumaa päikesetõusu imetlemine üheskoos.\nJuba 23 aastat traditsioonilist sündmust Valastel!
URL:https://www.johvi.ee/sundmus/eesti-vabariigi-108-aastapaeva-tahistamine-valastel/
LOCATION:Valaste\, Ida-Virumaa\, Estonia
ATTACH;FMTTYPE=image/jpeg:https://www.johvi.ee/wp-content/uploads/2026/02/626705872_1509713207825946_7587248771435832583_n.jpg
END:VEVENT
BEGIN:VEVENT
DTSTART;TZID=Europe/Tallinn:20260224T072000
DTEND;TZID=Europe/Tallinn:20260224T083000
DTSTAMP:20260422T174439
CREATED:20260210T171621Z
LAST-MODIFIED:20260210T172735Z
UID:9743-1771917600-1771921800@www.johvi.ee
SUMMARY:Eesti Vabariigi 108. aastapäeva tähistamine Toilas
DESCRIPTION:Eesti Vabariigi 108. aastapäeva pidulik lipu heiskamine Oru pargis!\nNB! Palun võta kaasa käsilipp või trikoloori sümboolika – hoiame sini-must-valget au sees!\n24. veebruaril\, kell 7.20 Oru pargis\, lossiplatsil\nPeomeeleolu aitavad luua popkoor Voka Vokaal ja Kiiguri naisrühm.Tervituskõned ja kodumaa päikesetõusu imetlemine üheskoos.\nSobiva ilma korral saab heita pilgu Toila gümnaasiumi tornist koduvallale!Traditsiooniline hommikukohv Toila gümnaasiumi sööklas!
URL:https://www.johvi.ee/sundmus/eesti-vabariigi-108-aastapaeva-tahistamine-toilas/
LOCATION:Oru park\, Ida-Virumaa\, Estonia
ATTACH;FMTTYPE=image/jpeg:https://www.johvi.ee/wp-content/uploads/2026/02/626511861_1509730237824243_8261849057871840815_n.jpg
END:VEVENT
BEGIN:VEVENT
DTSTART;TZID=Europe/Tallinn:20260224T072200
DTEND;TZID=Europe/Tallinn:20260224T100000
DTSTAMP:20260422T174439
CREATED:20260210T171212Z
LAST-MODIFIED:20260210T171212Z
UID:9734-1771917720-1771927200@www.johvi.ee
SUMMARY:Eesti Vabariigi 108. aastapäeva tähistamine Jõhvis
DESCRIPTION:Päevakava:Kell 7.22 – Riigilipu heiskamise tseremooniaJõhvi MuusikaväljakEsinevad naisrahvatantsurühm GEVI\, Tammiku segaansambel ja segarahvatantsurühm JõhvikamoosPidupäeva kringel ja teeÜhine jalutuskäik kindral A. Tõnissoni ausamba ja Vabadussõjas langenute ausamba juurde\nKell 8.45 – MälestustseremooniaVabadussõjas langenute ausamba juuresSõnavõtud ja pärgade asetamine\nKell 9.20 – Vabariigi aastapäeva jumalateenistusJõhvi Mihkli kirikus\nTasuta buss:Väljub kell 7.00 Jõhvi Konsumi parklast (Narva mnt 38)Peatused bussipeatused:7.02 Keskus7.07 Rahu (Rakvere tn 29\, Maxima XX)7.09 Postkontor (viadukti suunas)Lõpp-peatus: Jõhvi Muusikaväljak
URL:https://www.johvi.ee/sundmus/eesti-vabariigi-108-aastapaeva-tahistamine-johvis/
LOCATION:Jõhvi Muusikaväljak\, Pargi 40\, Jõhvi
ATTACH;FMTTYPE=image/jpeg:https://www.johvi.ee/wp-content/uploads/2026/02/619931614_1196405425912454_1743112870870709107_n.jpg
END:VEVENT
BEGIN:VEVENT
DTSTART;TZID=Europe/Tallinn:20260224T110000
DTEND;TZID=Europe/Tallinn:20260224T123000
DTSTAMP:20260422T174439
CREATED:20260114T072004Z
LAST-MODIFIED:20260114T072004Z
UID:8089-1771930800-1771936200@www.johvi.ee
SUMMARY:Lipuretk Tammiku kaevandusmäkke
DESCRIPTION:Kaevuri Maja MTÜ kutsub Eesti Vabariigi 108. sünnipäeva tähistama lipuretkega Tammiku kaevandusmäkke. Kogunemine kell 11 Tammiku rahvamaja ees.
URL:https://www.johvi.ee/sundmus/lipuretk-tammiku-kaevandusmakke/
LOCATION:Tammiku Rahvamaja\, Tamme 17\, Tammiku alevik\, Estonia
ATTACH;FMTTYPE=image/jpeg:https://www.johvi.ee/wp-content/uploads/2026/01/liuretk.jpg
END:VEVENT
BEGIN:VEVENT
DTSTART;TZID=Europe/Tallinn:20260224T120000
DTEND;TZID=Europe/Tallinn:20260224T160000
DTSTAMP:20260422T174439
CREATED:20260123T153758Z
LAST-MODIFIED:20260123T153758Z
UID:8798-1771934400-1771948800@www.johvi.ee
SUMMARY:Voka Vastlapäev
DESCRIPTION:Kell 11.00 algab Voka staadionil Agu Normaku nimeline suusavõistlus pärast mida toimub vastlapäev!\n\nKava:KelgutamineUisutamineSaaniga lõbusõit Voka tiigilSiimumäe talu hobusega lõbusõitKuum tee ja vastlakuklid\nAvatud jääauk ja spordihoone saunad on kuumad!Võimalik grillida grillvorste ja vahukomme
URL:https://www.johvi.ee/sundmus/voka-vastlapaev-2/
LOCATION:Voka spordihoone\, Metsa tn 2\, Voka\, Estonia
ATTACH;FMTTYPE=image/jpeg:https://www.johvi.ee/wp-content/uploads/2026/01/615421027_1491226099674657_3510566717340373838_n-1.jpg
END:VEVENT
END:VCALENDAR