BEGIN:VCALENDAR
VERSION:2.0
PRODID:-//Jõhvi Vald - ECPv6.15.20//NONSGML v1.0//EN
CALSCALE:GREGORIAN
METHOD:PUBLISH
X-ORIGINAL-URL:https://www.johvi.ee
X-WR-CALDESC:Events for Jõhvi Vald
REFRESH-INTERVAL;VALUE=DURATION:PT1H
X-Robots-Tag:noindex
X-PUBLISHED-TTL:PT1H
BEGIN:VTIMEZONE
TZID:Europe/Tallinn
BEGIN:DAYLIGHT
TZOFFSETFROM:+0200
TZOFFSETTO:+0300
TZNAME:EEST
DTSTART:20250330T010000
END:DAYLIGHT
BEGIN:STANDARD
TZOFFSETFROM:+0300
TZOFFSETTO:+0200
TZNAME:EET
DTSTART:20251026T010000
END:STANDARD
BEGIN:DAYLIGHT
TZOFFSETFROM:+0200
TZOFFSETTO:+0300
TZNAME:EEST
DTSTART:20260329T010000
END:DAYLIGHT
BEGIN:STANDARD
TZOFFSETFROM:+0300
TZOFFSETTO:+0200
TZNAME:EET
DTSTART:20261025T010000
END:STANDARD
BEGIN:DAYLIGHT
TZOFFSETFROM:+0200
TZOFFSETTO:+0300
TZNAME:EEST
DTSTART:20270328T010000
END:DAYLIGHT
BEGIN:STANDARD
TZOFFSETFROM:+0300
TZOFFSETTO:+0200
TZNAME:EET
DTSTART:20271031T010000
END:STANDARD
END:VTIMEZONE
BEGIN:VEVENT
DTSTART;TZID=Europe/Tallinn:20260219T120000
DTEND;TZID=Europe/Tallinn:20260219T133000
DTSTAMP:20260422T193117
CREATED:20260202T133851Z
LAST-MODIFIED:20260216T134440Z
UID:9400-1771502400-1771507800@www.johvi.ee
SUMMARY:NÄITUS JA TÖÖTUBA: Kas eksliibris on väljasurev kunst
DESCRIPTION:Kas esimese eksliibrise tegia) Albrecht Dürerb) Leonardo da Vincic) Raffael?\nKas ex libris tähendaba) raamatute pealtb) raamatute seastc) raamatute alt?\nKas eesti kunstnikest on kõige rohkem eksliibriseid loonuda) Eduard Wiiraltb) Hugo Hiibusc) Evald Okas?\nSaaremaa kunstnik Külliki Järvila töötoas saad õiged vastused teada ja kuulda eksliibristest veel palju muudki huvitavat. Külliki annab sulle ka pliiatsi pihku ning lükkab su loovuse käima.Millal sa viimati pliiatsit peos hoidsid? Kooliajal? Ära pelga\, see ei saa olema midagi keerulist\, absoluutselt mitte.Jõhvi raamatukogus on praegu väljas Külliki eksliibriste näitus.Ja Hulda Lepisku oma ka.Kui Külliki on eksliibrisekunstnik\, siis Hulda on ekslibrist ehk eksliibriste koguja. Töötoas kohtud sa ka temaga\, et kuulata mõne eksliibrise saamise põnevat lugu.
URL:https://www.johvi.ee/sundmus/naitus-ja-tootuba-kas-eksliibris-on-valjasurev-kunst/
ATTACH;FMTTYPE=image/png:https://www.johvi.ee/wp-content/uploads/2026/02/eksliibris_plakat.png
END:VEVENT
END:VCALENDAR