BEGIN:VCALENDAR
VERSION:2.0
PRODID:-//Jõhvi Vald - ECPv6.15.20//NONSGML v1.0//EN
CALSCALE:GREGORIAN
METHOD:PUBLISH
X-ORIGINAL-URL:https://www.johvi.ee
X-WR-CALDESC:Events for Jõhvi Vald
REFRESH-INTERVAL;VALUE=DURATION:PT1H
X-Robots-Tag:noindex
X-PUBLISHED-TTL:PT1H
BEGIN:VTIMEZONE
TZID:Europe/Tallinn
BEGIN:DAYLIGHT
TZOFFSETFROM:+0200
TZOFFSETTO:+0300
TZNAME:EEST
DTSTART:20250330T010000
END:DAYLIGHT
BEGIN:STANDARD
TZOFFSETFROM:+0300
TZOFFSETTO:+0200
TZNAME:EET
DTSTART:20251026T010000
END:STANDARD
BEGIN:DAYLIGHT
TZOFFSETFROM:+0200
TZOFFSETTO:+0300
TZNAME:EEST
DTSTART:20260329T010000
END:DAYLIGHT
BEGIN:STANDARD
TZOFFSETFROM:+0300
TZOFFSETTO:+0200
TZNAME:EET
DTSTART:20261025T010000
END:STANDARD
BEGIN:DAYLIGHT
TZOFFSETFROM:+0200
TZOFFSETTO:+0300
TZNAME:EEST
DTSTART:20270328T010000
END:DAYLIGHT
BEGIN:STANDARD
TZOFFSETFROM:+0300
TZOFFSETTO:+0200
TZNAME:EET
DTSTART:20271031T010000
END:STANDARD
END:VTIMEZONE
BEGIN:VEVENT
DTSTART;TZID=Europe/Tallinn:20260103T103000
DTEND;TZID=Europe/Tallinn:20260103T110000
DTSTAMP:20260422T205722
CREATED:20251219T110037Z
LAST-MODIFIED:20251219T110037Z
UID:7046-1767436200-1767438000@www.johvi.ee
SUMMARY:Relvarahu aastapäeva mälestusminutid Jõhvis
DESCRIPTION:Vabadussõjas langenute mälestussamba juures3. jaanuaril kell 10.30Peatume hetkeks\, et mälestada ja austada neid\, kelle ohvrimeelsus tegi võimalikuks meie oma riigi sünni.Kavas on kõned ja pärgade asetamine.
URL:https://www.johvi.ee/sundmus/relvarahu-aastapaeva-malestusminutid-johvis/
LOCATION:Vabadussõjas langenute mälestussammas
ATTACH;FMTTYPE=image/jpeg:https://www.johvi.ee/wp-content/uploads/2025/12/601373733_1166302522256078_5667228089842667684_n.jpg
END:VEVENT
END:VCALENDAR