BEGIN:VCALENDAR
VERSION:2.0
PRODID:-//Jõhvi Vald - ECPv6.15.20//NONSGML v1.0//EN
CALSCALE:GREGORIAN
METHOD:PUBLISH
X-ORIGINAL-URL:https://www.johvi.ee
X-WR-CALDESC:Events for Jõhvi Vald
REFRESH-INTERVAL;VALUE=DURATION:PT1H
X-Robots-Tag:noindex
X-PUBLISHED-TTL:PT1H
BEGIN:VTIMEZONE
TZID:Europe/Tallinn
BEGIN:DAYLIGHT
TZOFFSETFROM:+0200
TZOFFSETTO:+0300
TZNAME:EEST
DTSTART:20240331T010000
END:DAYLIGHT
BEGIN:STANDARD
TZOFFSETFROM:+0300
TZOFFSETTO:+0200
TZNAME:EET
DTSTART:20241027T010000
END:STANDARD
BEGIN:DAYLIGHT
TZOFFSETFROM:+0200
TZOFFSETTO:+0300
TZNAME:EEST
DTSTART:20250330T010000
END:DAYLIGHT
BEGIN:STANDARD
TZOFFSETFROM:+0300
TZOFFSETTO:+0200
TZNAME:EET
DTSTART:20251026T010000
END:STANDARD
BEGIN:DAYLIGHT
TZOFFSETFROM:+0200
TZOFFSETTO:+0300
TZNAME:EEST
DTSTART:20260329T010000
END:DAYLIGHT
BEGIN:STANDARD
TZOFFSETFROM:+0300
TZOFFSETTO:+0200
TZNAME:EET
DTSTART:20261025T010000
END:STANDARD
END:VTIMEZONE
BEGIN:VEVENT
DTSTART;TZID=Europe/Tallinn:20251215T100000
DTEND;TZID=Europe/Tallinn:20251215T180000
DTSTAMP:20260422T221839
CREATED:20251124T085512Z
LAST-MODIFIED:20251201T125543Z
UID:6168-1765792800-1765821600@www.johvi.ee
SUMMARY:Raamatuaasta vaiba tikkimine
DESCRIPTION:Eesti raamatu 500. sünnipäeva auks valmib ligi 17 meetri pikkune piltvaip\, mis kujutab meie raamatu lugu. \nTikkimine Jõhvi Keskraamatukogus: \n15.12–19.12 kell 10.00–18.00 \n20.12 kell 10.00–16.00 \n22.12 kell 10.00–18.00 \n29.12–30.12 kell 10.00–18.00 \nInfo tel. 3370536\, 53827060
URL:https://www.johvi.ee/sundmus/raamatuaasta-vaiba-tikkimine/
LOCATION:Jõhvi keskraamatukogu\, Rakvere 13a \, Ida-Virumaa\, Jõhvi\, Ida-Virumaa\, Estonia
ATTACH;FMTTYPE=image/jpeg:https://www.johvi.ee/wp-content/uploads/2025/11/Ida-Virumaa_plakat_uus.jpg
END:VEVENT
END:VCALENDAR