BEGIN:VCALENDAR
VERSION:2.0
PRODID:-//Jõhvi Vald - ECPv6.15.20//NONSGML v1.0//EN
CALSCALE:GREGORIAN
METHOD:PUBLISH
X-ORIGINAL-URL:https://www.johvi.ee
X-WR-CALDESC:Events for Jõhvi Vald
REFRESH-INTERVAL;VALUE=DURATION:PT1H
X-Robots-Tag:noindex
X-PUBLISHED-TTL:PT1H
BEGIN:VTIMEZONE
TZID:Europe/Tallinn
BEGIN:DAYLIGHT
TZOFFSETFROM:+0200
TZOFFSETTO:+0300
TZNAME:EEST
DTSTART:20240331T010000
END:DAYLIGHT
BEGIN:STANDARD
TZOFFSETFROM:+0300
TZOFFSETTO:+0200
TZNAME:EET
DTSTART:20241027T010000
END:STANDARD
BEGIN:DAYLIGHT
TZOFFSETFROM:+0200
TZOFFSETTO:+0300
TZNAME:EEST
DTSTART:20250330T010000
END:DAYLIGHT
BEGIN:STANDARD
TZOFFSETFROM:+0300
TZOFFSETTO:+0200
TZNAME:EET
DTSTART:20251026T010000
END:STANDARD
BEGIN:DAYLIGHT
TZOFFSETFROM:+0200
TZOFFSETTO:+0300
TZNAME:EEST
DTSTART:20260329T010000
END:DAYLIGHT
BEGIN:STANDARD
TZOFFSETFROM:+0300
TZOFFSETTO:+0200
TZNAME:EET
DTSTART:20261025T010000
END:STANDARD
END:VTIMEZONE
BEGIN:VEVENT
DTSTART;TZID=Europe/Tallinn:20251130T180000
DTEND;TZID=Europe/Tallinn:20251130T190000
DTSTAMP:20260422T233347
CREATED:20251119T135900Z
LAST-MODIFIED:20251119T135900Z
UID:6110-1764525600-1764529200@www.johvi.ee
SUMMARY:I Advendiõhtu
DESCRIPTION:Peatselt süttib esimene advendituli!\n\nOotame Sind Jõhvi Muusikaväljak 30. november kell 18.00.\nTantsime meie inimeste oma lugu. Olemise viis ja juured\, mis hoiavad meid koos.Õhtus saavad kokku erinevad põlvkonnad ja tantsurühmad\,et jagada valgust\, liikumist ja ühist hingamist.
URL:https://www.johvi.ee/sundmus/i-advendiohtu/
ATTACH;FMTTYPE=image/jpeg:https://www.johvi.ee/wp-content/uploads/2025/11/iseoma.jpg
END:VEVENT
END:VCALENDAR