BEGIN:VCALENDAR
VERSION:2.0
PRODID:-//Jõhvi Vald - ECPv6.15.20//NONSGML v1.0//EN
CALSCALE:GREGORIAN
METHOD:PUBLISH
X-ORIGINAL-URL:https://www.johvi.ee
X-WR-CALDESC:Events for Jõhvi Vald
REFRESH-INTERVAL;VALUE=DURATION:PT1H
X-Robots-Tag:noindex
X-PUBLISHED-TTL:PT1H
BEGIN:VTIMEZONE
TZID:Europe/Tallinn
BEGIN:DAYLIGHT
TZOFFSETFROM:+0200
TZOFFSETTO:+0300
TZNAME:EEST
DTSTART:20240331T010000
END:DAYLIGHT
BEGIN:STANDARD
TZOFFSETFROM:+0300
TZOFFSETTO:+0200
TZNAME:EET
DTSTART:20241027T010000
END:STANDARD
BEGIN:DAYLIGHT
TZOFFSETFROM:+0200
TZOFFSETTO:+0300
TZNAME:EEST
DTSTART:20250330T010000
END:DAYLIGHT
BEGIN:STANDARD
TZOFFSETFROM:+0300
TZOFFSETTO:+0200
TZNAME:EET
DTSTART:20251026T010000
END:STANDARD
BEGIN:DAYLIGHT
TZOFFSETFROM:+0200
TZOFFSETTO:+0300
TZNAME:EEST
DTSTART:20260329T010000
END:DAYLIGHT
BEGIN:STANDARD
TZOFFSETFROM:+0300
TZOFFSETTO:+0200
TZNAME:EET
DTSTART:20261025T010000
END:STANDARD
END:VTIMEZONE
BEGIN:VEVENT
DTSTART;TZID=Europe/Tallinn:20251108T120000
DTEND;TZID=Europe/Tallinn:20251108T150000
DTSTAMP:20260422T233348
CREATED:20251104T130440Z
LAST-MODIFIED:20251104T130440Z
UID:5350-1762603200-1762614000@www.johvi.ee
SUMMARY:ISADEPÄEV – ISADE TAASKÄIVITUS
DESCRIPTION:Isadepäeva – ISADE TAASKÄIVITUS \n8. novembril kell 12.00–14.30 ootame kõiki Jõhvi Kontserdimajja\, et ühiselt tähistada isadepäeva.\nSee on päev\, mil avaldame tunnustust ja tänu isadele nende hoolivuse\, toe ja eeskuju eest. Tule koos perega ja naudi sisukaid tegevusi\, head seltskonda ning sooja meeleolu. \nKavas: \nkell 12.15 töötuba „Isa – Taaskäivitust“ (eesti keeles). Töötoa viib läbi Jevgeni Timoštšuk. \nkell 13.00 esineb Circus Studio Folie (Tallinn) \nkell 13.30 мастер-класс „Папа – ПЕРЕЗАГРУЗКА“ (vene keeles). Töötoa viib läbi Jevgeni Timoštšuk. \nkell 12.00-14.30 toimuvad lastele ja emadele erinevad tegevused – töötoad\, mängud ja tantsud.\nSissepääs on tasuta.
URL:https://www.johvi.ee/sundmus/isadepaev-isade-taaskaivitus/
LOCATION:Jõhvi Kontserdimaja\, Pargi 40\, Jõhvi\, Ida-Virumaa\, Estonia
ATTACH;FMTTYPE=image/png:https://www.johvi.ee/wp-content/uploads/2025/11/Variant-3-768x1086-1.png
END:VEVENT
END:VCALENDAR